BEGIN:VCALENDAR
VERSION:2.0
PRODID:-//Stadtteilinitiative Hamm - ECPv6.15.13//NONSGML v1.0//EN
CALSCALE:GREGORIAN
METHOD:PUBLISH
X-ORIGINAL-URL:https://hh-hamm.de
X-WR-CALDESC:Veranstaltungen für Stadtteilinitiative Hamm
REFRESH-INTERVAL;VALUE=DURATION:PT1H
X-Robots-Tag:noindex
X-PUBLISHED-TTL:PT1H
BEGIN:VTIMEZONE
TZID:Europe/Berlin
BEGIN:DAYLIGHT
TZOFFSETFROM:+0100
TZOFFSETTO:+0200
TZNAME:CEST
DTSTART:20230326T010000
END:DAYLIGHT
BEGIN:STANDARD
TZOFFSETFROM:+0200
TZOFFSETTO:+0100
TZNAME:CET
DTSTART:20231029T010000
END:STANDARD
BEGIN:DAYLIGHT
TZOFFSETFROM:+0100
TZOFFSETTO:+0200
TZNAME:CEST
DTSTART:20240331T010000
END:DAYLIGHT
BEGIN:STANDARD
TZOFFSETFROM:+0200
TZOFFSETTO:+0100
TZNAME:CET
DTSTART:20241027T010000
END:STANDARD
BEGIN:DAYLIGHT
TZOFFSETFROM:+0100
TZOFFSETTO:+0200
TZNAME:CEST
DTSTART:20250330T010000
END:DAYLIGHT
BEGIN:STANDARD
TZOFFSETFROM:+0200
TZOFFSETTO:+0100
TZNAME:CET
DTSTART:20251026T010000
END:STANDARD
END:VTIMEZONE
BEGIN:VEVENT
DTSTART;TZID=Europe/Berlin:20241119T143000
DTEND;TZID=Europe/Berlin:20241119T163000
DTSTAMP:20260424T220718
CREATED:20240117T121635Z
LAST-MODIFIED:20240117T121635Z
UID:10019-1732026600-1732033800@hh-hamm.de
SUMMARY:Nomiddag op Platt
DESCRIPTION:Geschichten und Döntjes – Gemütliches Beisammensein auf Plattdeutsch im Kulturladen \nDatum & Uhrzeit\n\nDienstag\, 19.11.2024 | 14:30 – 16:30 \nKostenbeitrag\n5 € für Kaffee\, Tee und Kuchen \nAnmeldung\nHerrn Jochen Mähl\nTel. 040 712 14 99 \nVeranstaltungsort\nKulturladen Hamm\nSievekingdamm 3\n20535 Hamburg
URL:https://hh-hamm.de/event/nomiddag-op-platt-19/
CATEGORIES:Kalender
ATTACH;FMTTYPE=image/jpeg:https://hh-hamm.de/wp-content/uploads/2014/12/Platt-e1634114155327.jpg
END:VEVENT
END:VCALENDAR