BEGIN:VCALENDAR
VERSION:2.0
PRODID:-//Stadtteilinitiative Hamm - ECPv6.15.13//NONSGML v1.0//EN
CALSCALE:GREGORIAN
METHOD:PUBLISH
X-ORIGINAL-URL:https://hh-hamm.de
X-WR-CALDESC:Veranstaltungen für Stadtteilinitiative Hamm
REFRESH-INTERVAL;VALUE=DURATION:PT1H
X-Robots-Tag:noindex
X-PUBLISHED-TTL:PT1H
BEGIN:VTIMEZONE
TZID:Europe/Berlin
BEGIN:DAYLIGHT
TZOFFSETFROM:+0100
TZOFFSETTO:+0200
TZNAME:CEST
DTSTART:20240331T010000
END:DAYLIGHT
BEGIN:STANDARD
TZOFFSETFROM:+0200
TZOFFSETTO:+0100
TZNAME:CET
DTSTART:20241027T010000
END:STANDARD
BEGIN:DAYLIGHT
TZOFFSETFROM:+0100
TZOFFSETTO:+0200
TZNAME:CEST
DTSTART:20250330T010000
END:DAYLIGHT
BEGIN:STANDARD
TZOFFSETFROM:+0200
TZOFFSETTO:+0100
TZNAME:CET
DTSTART:20251026T010000
END:STANDARD
BEGIN:DAYLIGHT
TZOFFSETFROM:+0100
TZOFFSETTO:+0200
TZNAME:CEST
DTSTART:20260329T010000
END:DAYLIGHT
BEGIN:STANDARD
TZOFFSETFROM:+0200
TZOFFSETTO:+0100
TZNAME:CET
DTSTART:20261025T010000
END:STANDARD
END:VTIMEZONE
BEGIN:VEVENT
DTSTART;TZID=Europe/Berlin:20250118T110000
DTEND;TZID=Europe/Berlin:20250118T120000
DTSTAMP:20260424T192022
CREATED:20241217T133504Z
LAST-MODIFIED:20241217T133542Z
UID:11106-1737198000-1737201600@hh-hamm.de
SUMMARY:Treffen zum 111. Geburtstag von Arno Schmidt
DESCRIPTION:Das Treffen findet wieder vor dem Haus Rumpffsweg 27 statt. Hier wurde am 18.1.1914 der Nachkriegsschriftsteller Arno Schmidt geboren. Seit 1997 veranstaltet das Stadtteilarchiv Hamburg-Hamm ein Geburtstagstreffen am Ort seines Geburtshauses. Ein Schnaps wird nicht ausgeschenkt\, aber der persönliche Flachmann darf gern mitgebracht werden. \nDatum und Zeit\nSa\, 18.01.2025\n11:00 – 12:00 Uhr \nKostenlos \nVeranstaltungsort\nRumpffsweg 27\n20537 Hamburg
URL:https://hh-hamm.de/event/treffen-zum-111-geburtstag-von-arno-schmidt/
CATEGORIES:Kalender
ATTACH;FMTTYPE=image/jpeg:https://hh-hamm.de/wp-content/uploads/2020/11/arno-maggi-scaled-e1673858567462.jpg
END:VEVENT
END:VCALENDAR