BEGIN:VCALENDAR
VERSION:2.0
PRODID:-//Stadtteilinitiative Hamm - ECPv6.15.13//NONSGML v1.0//EN
CALSCALE:GREGORIAN
METHOD:PUBLISH
X-ORIGINAL-URL:https://hh-hamm.de
X-WR-CALDESC:Veranstaltungen für Stadtteilinitiative Hamm
REFRESH-INTERVAL;VALUE=DURATION:PT1H
X-Robots-Tag:noindex
X-PUBLISHED-TTL:PT1H
BEGIN:VTIMEZONE
TZID:Europe/Berlin
BEGIN:DAYLIGHT
TZOFFSETFROM:+0100
TZOFFSETTO:+0200
TZNAME:CEST
DTSTART:20240331T010000
END:DAYLIGHT
BEGIN:STANDARD
TZOFFSETFROM:+0200
TZOFFSETTO:+0100
TZNAME:CET
DTSTART:20241027T010000
END:STANDARD
BEGIN:DAYLIGHT
TZOFFSETFROM:+0100
TZOFFSETTO:+0200
TZNAME:CEST
DTSTART:20250330T010000
END:DAYLIGHT
BEGIN:STANDARD
TZOFFSETFROM:+0200
TZOFFSETTO:+0100
TZNAME:CET
DTSTART:20251026T010000
END:STANDARD
BEGIN:DAYLIGHT
TZOFFSETFROM:+0100
TZOFFSETTO:+0200
TZNAME:CEST
DTSTART:20260329T010000
END:DAYLIGHT
BEGIN:STANDARD
TZOFFSETFROM:+0200
TZOFFSETTO:+0100
TZNAME:CET
DTSTART:20261025T010000
END:STANDARD
END:VTIMEZONE
BEGIN:VEVENT
DTSTART;TZID=Europe/Berlin:20250124T173000
DTEND;TZID=Europe/Berlin:20250124T193000
DTSTAMP:20260424T192029
CREATED:20241220T124732Z
LAST-MODIFIED:20241220T124732Z
UID:11142-1737739800-1737747000@hh-hamm.de
SUMMARY:Hamm Bunt stellt sich vor
DESCRIPTION:Hamm Bunt ist ein Bündnis für ein vielfältiges Hamm\, das zusammenhält. \nAn diesem Termin stellt sich Hamm Bunt vor und ist gespannt auf deine Impulse. \nMehr Infos: hamm-bunt.de | projekte@hh-hamm.de \nDatum & Uhrzeit\n\nFreitag\, 24.01.2025 | 17:30 \nOhne Anmeldung \nVeranstaltungsort\nKulturladen Hamm\nSievekingdamm 3\n20535 Hamburg
URL:https://hh-hamm.de/event/hamm-bunt-stellt-sich-vor/
CATEGORIES:Kalender
ATTACH;FMTTYPE=image/png:https://hh-hamm.de/wp-content/uploads/2024/12/HAMMBUNT_Logo_URL_Orange_bg_Tran-e1734698804559.png
END:VEVENT
END:VCALENDAR