BEGIN:VCALENDAR
VERSION:2.0
PRODID:-//Stadtteilinitiative Hamm - ECPv6.15.13//NONSGML v1.0//EN
CALSCALE:GREGORIAN
METHOD:PUBLISH
X-WR-CALNAME:Stadtteilinitiative Hamm
X-ORIGINAL-URL:https://hh-hamm.de
X-WR-CALDESC:Veranstaltungen für Stadtteilinitiative Hamm
REFRESH-INTERVAL;VALUE=DURATION:PT1H
X-Robots-Tag:noindex
X-PUBLISHED-TTL:PT1H
BEGIN:VTIMEZONE
TZID:Europe/Berlin
BEGIN:DAYLIGHT
TZOFFSETFROM:+0100
TZOFFSETTO:+0200
TZNAME:CEST
DTSTART:20240331T010000
END:DAYLIGHT
BEGIN:STANDARD
TZOFFSETFROM:+0200
TZOFFSETTO:+0100
TZNAME:CET
DTSTART:20241027T010000
END:STANDARD
BEGIN:DAYLIGHT
TZOFFSETFROM:+0100
TZOFFSETTO:+0200
TZNAME:CEST
DTSTART:20250330T010000
END:DAYLIGHT
BEGIN:STANDARD
TZOFFSETFROM:+0200
TZOFFSETTO:+0100
TZNAME:CET
DTSTART:20251026T010000
END:STANDARD
BEGIN:DAYLIGHT
TZOFFSETFROM:+0100
TZOFFSETTO:+0200
TZNAME:CEST
DTSTART:20260329T010000
END:DAYLIGHT
BEGIN:STANDARD
TZOFFSETFROM:+0200
TZOFFSETTO:+0100
TZNAME:CET
DTSTART:20261025T010000
END:STANDARD
END:VTIMEZONE
BEGIN:VEVENT
DTSTART;TZID=Europe/Berlin:20250125T180000
DTEND;TZID=Europe/Berlin:20250125T210000
DTSTAMP:20260424T191738
CREATED:20241219T141538Z
LAST-MODIFIED:20241219T152103Z
UID:11128-1737828000-1737838800@hh-hamm.de
SUMMARY:Männersache(n) - Kleidertausch
DESCRIPTION:Männersache(n) – Kleidertausch Men’s Edition\nMehr Second Hand – weniger Wegwerfen und Konsum!  \nDas Prinzip ist einfach: Du bringst deine aussortierten Schätze mit und suchst dir dafür neue Lieblingsteile aus.  \nDieses Mal für Männer+ und ihre Kleidung! Hemden\, Hosen\, Pullis\, Caps und Mützen\, Gürtel\, Schuhe\, Accessoires… \nSpielregeln: \n\n\nbringe mind. 1\, aber max. 10 Teile mit\negal welche Größe(n)\nErwachsenenkleidung\nSchuhe\, Kleidung\, Accessoires und Schmuck – yes please!\nNo Go: Strumpfwaren\, Unterwäsche\, Bademoden\, Baby- oder Kinderkleidung\nwir nehmen NUR gut erhaltene und saubere Kleidung an!\nbring bitte nur Kleidung mit\, die du noch an deine*n beste*n Freund*in weitergeben würdest\ndie Kleidungsstücke\, die keine neuen Besitzer finden\, werden an lokale Kleiderkammern gespendet\n\nLetzte Kleidungs-Annahme 30 Minuten vor Veranstaltungsende. \n\nDatum & Uhrzeit\n\nSamstag\, 25.01.2025 | 18:00 – 21:00 \nEintritt\n1 €  Eintritt \nVeranstaltungsort\nKulturladen Hamm\nSievekingdamm 3\n20535 Hamburg
URL:https://hh-hamm.de/event/11128/
CATEGORIES:Kalender
ATTACH;FMTTYPE=image/png:https://hh-hamm.de/wp-content/uploads/2024/12/Maennerkleidertausch-Flyer-A4-e1734617679104.png
END:VEVENT
END:VCALENDAR