BEGIN:VCALENDAR
VERSION:2.0
PRODID:-//Stadtteilinitiative Hamm - ECPv6.15.13//NONSGML v1.0//EN
CALSCALE:GREGORIAN
METHOD:PUBLISH
X-ORIGINAL-URL:https://hh-hamm.de
X-WR-CALDESC:Veranstaltungen für Stadtteilinitiative Hamm
REFRESH-INTERVAL;VALUE=DURATION:PT1H
X-Robots-Tag:noindex
X-PUBLISHED-TTL:PT1H
BEGIN:VTIMEZONE
TZID:Europe/Berlin
BEGIN:DAYLIGHT
TZOFFSETFROM:+0100
TZOFFSETTO:+0200
TZNAME:CEST
DTSTART:20240331T010000
END:DAYLIGHT
BEGIN:STANDARD
TZOFFSETFROM:+0200
TZOFFSETTO:+0100
TZNAME:CET
DTSTART:20241027T010000
END:STANDARD
BEGIN:DAYLIGHT
TZOFFSETFROM:+0100
TZOFFSETTO:+0200
TZNAME:CEST
DTSTART:20250330T010000
END:DAYLIGHT
BEGIN:STANDARD
TZOFFSETFROM:+0200
TZOFFSETTO:+0100
TZNAME:CET
DTSTART:20251026T010000
END:STANDARD
BEGIN:DAYLIGHT
TZOFFSETFROM:+0100
TZOFFSETTO:+0200
TZNAME:CEST
DTSTART:20260329T010000
END:DAYLIGHT
BEGIN:STANDARD
TZOFFSETFROM:+0200
TZOFFSETTO:+0100
TZNAME:CET
DTSTART:20261025T010000
END:STANDARD
END:VTIMEZONE
BEGIN:VEVENT
DTSTART;TZID=Europe/Berlin:20250216T140000
DTEND;TZID=Europe/Berlin:20250216T170000
DTSTAMP:20260424T175540
CREATED:20241028T102210Z
LAST-MODIFIED:20241113T135219Z
UID:10913-1739714400-1739725200@hh-hamm.de
SUMMARY:Improvisationswerkstatt – Tanz und Bewegung
DESCRIPTION:In Solo-\, Partner- und Gruppen-Improvisationen die eigene Bewegungssprache finden und die Freude am tänzerischen Ausdruck mit anderen teilen. \nJeder Termin hat ein eigenes Thema\, das mit Hilfe von angeleiteten Improvisationsmomenten – mit und ohne Musik – spielerisch erforscht wird. Der Kurs präsentiert Elemente aus dem zeitgenössischen Tanz\, dem Butoh-Tanz\, der eutonischen Körperarbeit sowie aus dem Schauspieltraining. So lernt ihr\, den eigenen Ausdruck in gemeinsamen Improvisationen gestalterisch einzusetzen. Die Freude am Spielen und der Erfahrungsaustausch kommen dabei nicht zu kurz. \nDie Werkstatt versteht sich als Vermittlerin von Kunst und Lebenskunst und ist für Kunstschaffende ebenso geeignet wie für Laien\, egal welchen Alters. Körperliche Einschränkungen sind kein Hindernis.\nEs wird barfuß getanzt oder mit rutschfesten Socken/Schläppchen. \nKursleiterin: Christiane Maaßen aka bruna luna.\nMitglied der Gruppe performance26\, die Impro Acts auf der Bühne (Musik\, Tanz\, Live Painting) darbieten. \nWebsites: brunaluna.de\,  performance26.de \nDie Anmeldung ist verbindlich und wird per E-mail bestätigt. Solltet ihr den Termin nicht wahrnehmen können\, bitten wir um eine telefonische oder schriftliche Absage bis mindestens 24 Stunden vorher.  \nTermine\nSo\, 23.02.2025 | 14:00 – 17:00 Uhr\nSo\, 23.03.2025 | 14:00 – 17:00 Uhr \nKosten\n30€ bzw. 25€ ermäßigt* \n*Senior*innen\, Student*innen\, Azubis\, Schüler*innen\, Schwerbehinderte\, FSJ/BFD\, Erwerbslose\, Vereinsmitglieder der Stadtteilinitiative Hamm e.V. \n\n\n \nAnmeldung\ngruppen@hh-hamm.de // 040 18 15 14 92\n \nVeranstaltungsort\nKulturladen Hamm\nSievekingdamm 3\n20535 Hamburg
URL:https://hh-hamm.de/event/improvisationswerkstatt-tanz-und-bewegung-34/
CATEGORIES:Kalender
ATTACH;FMTTYPE=image/jpeg:https://hh-hamm.de/wp-content/uploads/2020/11/Bruna-Luna-2.jpg
END:VEVENT
END:VCALENDAR