BEGIN:VCALENDAR
VERSION:2.0
PRODID:-//Stadtteilinitiative Hamm - ECPv6.15.13//NONSGML v1.0//EN
CALSCALE:GREGORIAN
METHOD:PUBLISH
X-ORIGINAL-URL:https://hh-hamm.de
X-WR-CALDESC:Veranstaltungen für Stadtteilinitiative Hamm
REFRESH-INTERVAL;VALUE=DURATION:PT1H
X-Robots-Tag:noindex
X-PUBLISHED-TTL:PT1H
BEGIN:VTIMEZONE
TZID:Europe/Berlin
BEGIN:DAYLIGHT
TZOFFSETFROM:+0100
TZOFFSETTO:+0200
TZNAME:CEST
DTSTART:20240331T010000
END:DAYLIGHT
BEGIN:STANDARD
TZOFFSETFROM:+0200
TZOFFSETTO:+0100
TZNAME:CET
DTSTART:20241027T010000
END:STANDARD
BEGIN:DAYLIGHT
TZOFFSETFROM:+0100
TZOFFSETTO:+0200
TZNAME:CEST
DTSTART:20250330T010000
END:DAYLIGHT
BEGIN:STANDARD
TZOFFSETFROM:+0200
TZOFFSETTO:+0100
TZNAME:CET
DTSTART:20251026T010000
END:STANDARD
BEGIN:DAYLIGHT
TZOFFSETFROM:+0100
TZOFFSETTO:+0200
TZNAME:CEST
DTSTART:20260329T010000
END:DAYLIGHT
BEGIN:STANDARD
TZOFFSETFROM:+0200
TZOFFSETTO:+0100
TZNAME:CET
DTSTART:20261025T010000
END:STANDARD
END:VTIMEZONE
BEGIN:VEVENT
DTSTART;TZID=Europe/Berlin:20250514T140000
DTEND;TZID=Europe/Berlin:20250514T170000
DTSTAMP:20260422T131410
CREATED:20241024T081557Z
LAST-MODIFIED:20250401T085010Z
UID:10870-1747231200-1747242000@hh-hamm.de
SUMMARY:Historische Barkassenfahrt ***ausgebucht***
DESCRIPTION:durch Hamm und Hammerbrook \nRothenburgsort\, Hamm und Hammerbrook sind durchzogen von natürlichen und künstlichen Wasserstraßen. Der Blick von der Wasserseite eröffnet völlig neue Eindrücke in die Geschichte der Stadtteile. Die dreistündige Tour führt von den St. Pauli Landungsbrücken durch die Billwerder Bucht\, Tiefstackschleuse\, Tiefstackkanal\, Bille\, Rückerskanal\, Mittelkanal\, Hochwasserbassin\, City-Süd\, Südkanal\, Billerhuder Insel und zurück – vollgepackt mit Fotos und Erläuterungen zur Vergangenheit\, Gegenwart und möglichen Zukunft. \nTreffpunkt: St. Pauli Landungsbrücken\, Brücke 2 \nVeranstaltungsort\nBrücke 2\, vor dem Büro von Barkassen-Meyer\nLandungsbrücken 6\n20359 Hamburg \nEintritt\n33 € zzgl. Online-Ticketgebühr \n***Diese Fahrt ist ausgebucht. Es sind keine Tickets mehr erhältlich.*** \nTickets sichernDatum\nMittwoch\, 14. Mai 2025 \nZeit\n14:00 – 17:00 Uhr
URL:https://hh-hamm.de/event/barkassenfahrt-3/
LOCATION:Brücke 2\, vor dem Büro von Barkassen-Meyer\, Landungsbrücken 6\, Hamburg\, 20359
CATEGORIES:Kalender
ATTACH;FMTTYPE=image/jpeg:https://hh-hamm.de/wp-content/uploads/2024/10/DSC_0649-scaled-e1729853354752.jpg
END:VEVENT
END:VCALENDAR