BEGIN:VCALENDAR
VERSION:2.0
PRODID:-//Stadtteilinitiative Hamm - ECPv6.15.13//NONSGML v1.0//EN
CALSCALE:GREGORIAN
METHOD:PUBLISH
X-ORIGINAL-URL:https://hh-hamm.de
X-WR-CALDESC:Veranstaltungen für Stadtteilinitiative Hamm
REFRESH-INTERVAL;VALUE=DURATION:PT1H
X-Robots-Tag:noindex
X-PUBLISHED-TTL:PT1H
BEGIN:VTIMEZONE
TZID:Europe/Berlin
BEGIN:DAYLIGHT
TZOFFSETFROM:+0100
TZOFFSETTO:+0200
TZNAME:CEST
DTSTART:20230326T010000
END:DAYLIGHT
BEGIN:STANDARD
TZOFFSETFROM:+0200
TZOFFSETTO:+0100
TZNAME:CET
DTSTART:20231029T010000
END:STANDARD
BEGIN:DAYLIGHT
TZOFFSETFROM:+0100
TZOFFSETTO:+0200
TZNAME:CEST
DTSTART:20240331T010000
END:DAYLIGHT
BEGIN:STANDARD
TZOFFSETFROM:+0200
TZOFFSETTO:+0100
TZNAME:CET
DTSTART:20241027T010000
END:STANDARD
BEGIN:DAYLIGHT
TZOFFSETFROM:+0100
TZOFFSETTO:+0200
TZNAME:CEST
DTSTART:20250330T010000
END:DAYLIGHT
BEGIN:STANDARD
TZOFFSETFROM:+0200
TZOFFSETTO:+0100
TZNAME:CET
DTSTART:20251026T010000
END:STANDARD
END:VTIMEZONE
BEGIN:VEVENT
DTSTART;TZID=Europe/Berlin:20241102T200000
DTEND;TZID=Europe/Berlin:20241102T220000
DTSTAMP:20260424T204019
CREATED:20240925T133840Z
LAST-MODIFIED:20241021T102410Z
UID:10798-1730577600-1730584800@hh-hamm.de
SUMMARY:HaHaHamm Stand-Up Comedy #35
DESCRIPTION:
URL:https://hh-hamm.de/event/hahahamm-stand-up-comedy-35/
CATEGORIES:Kalender
END:VEVENT
BEGIN:VEVENT
DTSTART;TZID=Europe/Berlin:20241109T160000
DTEND;TZID=Europe/Berlin:20241109T160000
DTSTAMP:20260424T204019
CREATED:20241014T151331Z
LAST-MODIFIED:20241014T151526Z
UID:10839-1731168000-1731168000@hh-hamm.de
SUMMARY:Gedenken an die Novemberpogrome 1938
DESCRIPTION:Gegen das Vergessen \nGedenken an die Novemberpogrome 1938 bei den Stolpersteinen der Familien Rendsburg\, Rosenbaum\, Sachs\, Mendel und Lobatz \nIn der Nacht vom 9. auf den 10. November 1938 wurden die jüdische Bevölkerung\, Geschäfte und Synagogen im nationalsozialistischen Deutschland zur Zielscheibe organisierter Gewaltaktionen. Mehr als 1000 Menschen kamen hierbei ums Leben\, rund 30.000 wurden in Konzentrationslager verschleppt. \nIm Anschluss an die Veranstaltung findet ein Beisammensein mit Getränken in der Kita Kinderschlupf im Luisenweg 10 statt. \n— \nIn Vorbereitung auf den 9. November und zum Erhalt der Erinnerungen möchten wir zum Reinigen der Stolpersteine im Stadtteil aufrufen. \nPutzanleitung für Stolpersteine \nNehmt ein handelsübliches Putzmittel für Metalle oder 0\,5l Essigessenz + 0\,5l Wasser+2 TL Salz. Putzmittel mit einem Schwamm einreiben und einwirken lassen\, dann mit Wasser abspülen. Den Stein mit einem trockenen Tuch nachpolieren. Bitte keine harten Hilfsmittel (z.B. Drahtbürsten) verwenden\, um die Steine nicht zu beschädigen. \nEine Veranstaltung von hamm.bunt  \nDatum & Uhrzeit\nSamstag\, 09.11.2024\n16:00 Uhr \nTreffpunkt\nHammer Landstraße 59 (Fußgängerüberweg Ecke Krugtwiete)
URL:https://hh-hamm.de/event/gedenken-an-die-novemberpogrome-1938/
CATEGORIES:Kalender
ATTACH;FMTTYPE=image/jpeg:https://hh-hamm.de/wp-content/uploads/2024/10/Design-ohne-Titel-6.jpg
END:VEVENT
BEGIN:VEVENT
DTSTART;TZID=Europe/Berlin:20241110T100000
DTEND;TZID=Europe/Berlin:20241110T110000
DTSTAMP:20260424T204019
CREATED:20231120T134711Z
LAST-MODIFIED:20231123T144656Z
UID:9809-1731232800-1731236400@hh-hamm.de
SUMMARY:Vom Schutzraum zum Denkmal - Führung durch das Bunkermuseum Hamburg
DESCRIPTION:Der unterirdische Röhrenbunker im Wichernsweg wurde 1940/41 erbaut. Durch das Mitwirken zahlreicher Zeitzeug*innen entstand 1997 das Bunkermuseum Hamburg. Die Führung gibt einen Einblick in die Nutzungsphasen des heutigen Denkmals. Dabei stehen die Ausstellungsobjekte im Fokus\, die eng verbunden mit den persönlichen Erlebnissen von Zeitzeug*innen sind. \n(c) Katarina Fischer / We Are Story Studio \nDatum & Uhrzeit\nSonntag\, 10.11.2024\n10:00-11:00 Uhr \nKosten\n8\,00 € zzgl. Online-Ticketgebühr \nTicketsVeranstaltungsort\nBunkermuseum Hamburg\nWichernsweg 16\n20537 Hamburg
URL:https://hh-hamm.de/event/vom-schutzraum-zum-denkmal-fuehrung-durch-das-bunkermuseum-hamburg-4/
CATEGORIES:Kalender
ATTACH;FMTTYPE=image/jpeg:https://hh-hamm.de/wp-content/uploads/2023/11/c-Katarina-Fischer-I-We-Are-Story-Studio-IMG_6134-scaled-e1700487053926.jpg
END:VEVENT
BEGIN:VEVENT
DTSTART;TZID=Europe/Berlin:20241117T140000
DTEND;TZID=Europe/Berlin:20241117T170000
DTSTAMP:20260424T204019
CREATED:20240521T090131Z
LAST-MODIFIED:20240521T090131Z
UID:10256-1731852000-1731862800@hh-hamm.de
SUMMARY:Improvisationswerkstatt – Tanz und Bewegung
DESCRIPTION:In Solo-\, Partner- und Gruppen-Improvisationen die eigene Bewegungssprache finden und die Freude am tänzerischen Ausdruck mit anderen teilen. \nJeder Termin hat ein eigenes Thema\, das mit Hilfe von angeleiteten Improvisationsmomenten – mit und ohne Musik – spielerisch erforscht wird. Der Kurs präsentiert Elemente aus dem zeitgenössischen Tanz\, dem Butoh-Tanz\, der eutonischen Körperarbeit sowie aus dem Schauspieltraining. So lernt ihr\, den eigenen Ausdruck in gemeinsamen Improvisationen gestalterisch einzusetzen. Die Freude am Spielen und der Erfahrungsaustausch kommen dabei nicht zu kurz. \nDie Werkstatt versteht sich als Vermittlerin von Kunst und Lebenskunst und ist für Kunstschaffende ebenso geeignet wie für Laien\, egal welchen Alters. Körperliche Einschränkungen sind kein Hindernis.\nEs wird barfuß getanzt oder mit rutschfesten Socken/Schläppchen. \nKursleiterin: Christiane Maaßen aka bruna luna.\nMitglied der Gruppe performance26\, die Impro Acts auf der Bühne (Musik\, Tanz\, Live Painting) darbieten. \nWebsites: brunaluna.de\,  performance26.de \nDie Anmeldung ist verbindlich und wird per E-mail bestätigt. Solltet ihr den Termin nicht wahrnehmen können\, bitten wir um eine telefonische oder schriftliche Absage bis mindestens 24 Stunden vorher.  \nTermine\nSo\, 17.11.2024 | 14:00 – 17:00 Uhr\nSo\, 15.12.2024 | 14:00 – 17:00 Uhr \nKosten\n30€ bzw. 25€ ermäßigt* \n*Senior*innen\, Student*innen\, Azubis\, Schüler*innen\, Schwerbehinderte\, FSJ/BFD\, Erwerbslose\, Vereinsmitglieder der Stadtteilinitiative Hamm e.V. \n\n\n \nAnmeldung\ngruppen@hh-hamm.de // 040 18 15 14 92\n \nVeranstaltungsort\nKulturladen Hamm\nSievekingdamm 3\n20535 Hamburg
URL:https://hh-hamm.de/event/improvisationswerkstatt-tanz-und-bewegung-31/
CATEGORIES:Kalender
ATTACH;FMTTYPE=image/jpeg:https://hh-hamm.de/wp-content/uploads/2020/08/bruna_luna-copyright-heike_schluckebier-e1661859476459.jpg
END:VEVENT
BEGIN:VEVENT
DTSTART;TZID=Europe/Berlin:20241119T143000
DTEND;TZID=Europe/Berlin:20241119T163000
DTSTAMP:20260424T204019
CREATED:20240117T121635Z
LAST-MODIFIED:20240117T121635Z
UID:10019-1732026600-1732033800@hh-hamm.de
SUMMARY:Nomiddag op Platt
DESCRIPTION:Geschichten und Döntjes – Gemütliches Beisammensein auf Plattdeutsch im Kulturladen \nDatum & Uhrzeit\n\nDienstag\, 19.11.2024 | 14:30 – 16:30 \nKostenbeitrag\n5 € für Kaffee\, Tee und Kuchen \nAnmeldung\nHerrn Jochen Mähl\nTel. 040 712 14 99 \nVeranstaltungsort\nKulturladen Hamm\nSievekingdamm 3\n20535 Hamburg
URL:https://hh-hamm.de/event/nomiddag-op-platt-19/
CATEGORIES:Kalender
ATTACH;FMTTYPE=image/jpeg:https://hh-hamm.de/wp-content/uploads/2014/12/Platt-e1634114155327.jpg
END:VEVENT
BEGIN:VEVENT
DTSTART;TZID=Europe/Berlin:20241124T150000
DTEND;TZID=Europe/Berlin:20241124T180000
DTSTAMP:20260424T204019
CREATED:20240925T123920Z
LAST-MODIFIED:20240925T123920Z
UID:10788-1732460400-1732471200@hh-hamm.de
SUMMARY:Hammer Kleidertausch 8.0
DESCRIPTION:Mehr Second Hand – weniger Wegwerfen und Konsum!  \nDas Prinzip ist einfach: Du bringst deine aussortierten Schätze mit und suchst dir dafür neue Lieblingsteile aus. \nSpielregeln: \n\n\nbringe mind. 1\, aber max. 7 Teile mit\negal welche Größe(n)\nErwachsenenkleidung (egal ob Unisex\, Frauen\, Männer\, Divers)\nSchuhe\, Kleidung\, Accessoires und Schmuck – yes please!\nausgenommen: Strumpfwaren\, Unterwäsche\, Bademoden\, Baby- oder Kinderkleidung – NO GO.\nWir nehmen NUR gut erhaltene und saubere Kleidung an!\nbring bitte nur Kleidung mit\, die du noch an deine*n beste*n Freund*in weitergeben würdest\n\nihr erhaltet eine Stempelkarte am Einlass – dort notieren wir die Anzahl eurer mitgebrachten Teile\ndiese Anzahl “neuer” Teile darf wieder mit euch nach Hause *\ndie Kleidungsstücke\, die keine*n neue*n Besitzer*in finden werden an lokale Kleiderkammern gespendet\n\n* Bringst du zum Beispiel fünf tolle Kleidungsstücke mit\, kannst du bis zu fünf Kleidungsstücke aussuchen und mitnehmen! \n\nDatum & Uhrzeit\n\nSonntag\, 24.11.2024 | 15:00 – 18:00 \nEintritt\n1€ (mindestens ein Kleidungsstück mitbringen) | ohne Anmeldung \nVeranstaltungsort\nKulturladen Hamm\nSievekingdamm 3\n20535 Hamburg
URL:https://hh-hamm.de/event/hammer-kleidertausch-8-0/
CATEGORIES:Kalender
ATTACH;FMTTYPE=image/png:https://hh-hamm.de/wp-content/uploads/2024/09/Kleidertausch-8.0-Insta-Quadrat-e1727267760348.png
END:VEVENT
END:VCALENDAR