BEGIN:VCALENDAR
VERSION:2.0
PRODID:-//Stadtteilinitiative Hamm - ECPv6.15.13//NONSGML v1.0//EN
CALSCALE:GREGORIAN
METHOD:PUBLISH
X-WR-CALNAME:Stadtteilinitiative Hamm
X-ORIGINAL-URL:https://hh-hamm.de
X-WR-CALDESC:Veranstaltungen für Stadtteilinitiative Hamm
REFRESH-INTERVAL;VALUE=DURATION:PT1H
X-Robots-Tag:noindex
X-PUBLISHED-TTL:PT1H
BEGIN:VTIMEZONE
TZID:Europe/Berlin
BEGIN:DAYLIGHT
TZOFFSETFROM:+0100
TZOFFSETTO:+0200
TZNAME:CEST
DTSTART:20240331T010000
END:DAYLIGHT
BEGIN:STANDARD
TZOFFSETFROM:+0200
TZOFFSETTO:+0100
TZNAME:CET
DTSTART:20241027T010000
END:STANDARD
BEGIN:DAYLIGHT
TZOFFSETFROM:+0100
TZOFFSETTO:+0200
TZNAME:CEST
DTSTART:20250330T010000
END:DAYLIGHT
BEGIN:STANDARD
TZOFFSETFROM:+0200
TZOFFSETTO:+0100
TZNAME:CET
DTSTART:20251026T010000
END:STANDARD
BEGIN:DAYLIGHT
TZOFFSETFROM:+0100
TZOFFSETTO:+0200
TZNAME:CEST
DTSTART:20260329T010000
END:DAYLIGHT
BEGIN:STANDARD
TZOFFSETFROM:+0200
TZOFFSETTO:+0100
TZNAME:CET
DTSTART:20261025T010000
END:STANDARD
END:VTIMEZONE
BEGIN:VEVENT
DTSTART;TZID=Europe/Berlin:20250301T150000
DTEND;TZID=Europe/Berlin:20250301T163000
DTSTAMP:20260424T143705
CREATED:20250131T104909Z
LAST-MODIFIED:20250131T104909Z
UID:11223-1740841200-1740846600@hh-hamm.de
SUMMARY:KikaKakophonie - Kindertheater
DESCRIPTION:
URL:https://hh-hamm.de/event/kikakakophonie-kindertheater/
CATEGORIES:Kalender
ATTACH;FMTTYPE=image/png:https://hh-hamm.de/wp-content/uploads/2025/01/KikaKakophonie-Ton-Klang-Tanz-Theater-ab-3-KikaKakophonie-–-das-klingt-so-Schnatterli-Piep-wie-noch-nie-Frau-Ganzohr-ist-unterwegs-Geraeusche-fuer-ihr-Archiv-zu-sammeln.-Neugierig-stuerzt-sie-sich.png
END:VEVENT
BEGIN:VEVENT
DTSTART;TZID=Europe/Berlin:20250309T150000
DTEND;TZID=Europe/Berlin:20250309T180000
DTSTAMP:20260424T143705
CREATED:20250122T103519Z
LAST-MODIFIED:20250122T103931Z
UID:11203-1741532400-1741543200@hh-hamm.de
SUMMARY:Kleidertausch 9.0
DESCRIPTION:Kleidertausch 9.0\nMehr Second Hand – weniger Wegwerfen und Konsum!  \nUnser bewährter unisex-Kleidertausch geht in die neunte Runde!\nDas Prinzip ist einfach: Du bringst deine aussortierten Schätze mit und suchst dir dafür neue Lieblingsteile aus.  \nSpielregeln: \n\n\nbringe mind. 1\, aber max. 7 Teile mit\negal welche Größe(n)\nErwachsenenkleidung\nSchuhe\, Kleidung\, Accessoires und Schmuck – yes please!\nNo Go: Strumpfwaren\, Unterwäsche\, Bademoden\, Baby- oder Kinderkleidung\nwir nehmen NUR gut erhaltene und saubere Kleidung an!\nbring bitte nur Kleidung mit\, die du noch an deine*n beste*n Freund*in weitergeben würdest\ndie Kleidungsstücke\, die keine neuen Besitzer*innen finden\, werden an lokale Kleiderkammern gespendet\n\nLetzte Kleidungs-Annahme 30 Minuten vor Veranstaltungsende. \n\n\n\nDatum & Uhrzeit\n\nSonntag\, 09.03.2025 | 15:00 – 18:00 \nEintritt\n1 € | Ohne Anmeldung \nVeranstaltungsort\nKulturladen Hamm\nSievekingdamm 3\n20535 Hamburg
URL:https://hh-hamm.de/event/kleidertausch-9-0/
CATEGORIES:Kalender
ATTACH;FMTTYPE=image/png:https://hh-hamm.de/wp-content/uploads/2025/01/Kleidertausch-9.0-Insta-Ohne-Text-e1737542039622.png
END:VEVENT
BEGIN:VEVENT
DTSTART;TZID=Europe/Berlin:20250320T150000
DTEND;TZID=Europe/Berlin:20250320T170000
DTSTAMP:20260424T143705
CREATED:20250113T122813Z
LAST-MODIFIED:20250113T122813Z
UID:11157-1742482800-1742490000@hh-hamm.de
SUMMARY:Seniorencafé Kaffeekränzchen
DESCRIPTION:Jeden 3. Donnerstag im Monat lädt der Kulturladen zum gemütlichen Beisammensein bei Kuchen und Kaffee ein. Wir freuen uns auf Sie/euch! \nDatum & Zeit\n\nJeden 3. Donnerstag im Monat\n15:00-17:00 Uhr \nKostenlos\n\nSpenden willkommen \nVeranstaltungsort\nKulturladen Hamm (1. OG)\nSievekingdamm 3\n20535 Hamburg
URL:https://hh-hamm.de/event/seniorencafe-kaffeekraenzchen-2/
CATEGORIES:Kalender
ATTACH;FMTTYPE=image/png:https://hh-hamm.de/wp-content/uploads/2025/01/Seniorentreffen-Kaffeekraenzchen-e1736432769685.png
END:VEVENT
BEGIN:VEVENT
DTSTART;TZID=Europe/Berlin:20250321T170000
DTEND;TZID=Europe/Berlin:20250321T220000
DTSTAMP:20260424T143705
CREATED:20241217T111354Z
LAST-MODIFIED:20250304T130436Z
UID:11095-1742576400-1742594400@hh-hamm.de
SUMMARY:Nowruz
DESCRIPTION:Das Frühlingsfest im persischen Kulturraum\nWir feiern das Frühlingsfest Nowruz!\nLasst uns gemeinsam Kekse backen\, dekorieren (Haft-Sin)\, und einen gemütlichen Nachmittag miteinander verbringen. \nDatum & Uhrzeit\n\nFr\, 21.03.2025 | 17:00 Uhr \nKostenlos\nAnmeldung\ngruppen@hh-hamm.de \noder 040 18 15 14 92 \nVeranstaltungsort\nKulturladen Hamm\nSievekingdamm 3\n20535 Hamburg
URL:https://hh-hamm.de/event/nowruz/
CATEGORIES:Kalender
ATTACH;FMTTYPE=image/jpeg:https://hh-hamm.de/wp-content/uploads/2024/12/novruz-3205068_1280-e1734433676485.jpg
END:VEVENT
BEGIN:VEVENT
DTSTART;TZID=Europe/Berlin:20250322T200000
DTEND;TZID=Europe/Berlin:20250322T223000
DTSTAMP:20260424T143705
CREATED:20241206T101421Z
LAST-MODIFIED:20241206T101421Z
UID:11044-1742673600-1742682600@hh-hamm.de
SUMMARY:HaHaHamm Stand-Up Comedy #38
DESCRIPTION:
URL:https://hh-hamm.de/event/hahahamm-stand-up-comedy-38/
CATEGORIES:Kalender
ATTACH;FMTTYPE=image/jpeg:https://hh-hamm.de/wp-content/uploads/2024/12/Event-Cover-Ohne-Line-Up-38-scaled-e1733480029254.jpg
END:VEVENT
BEGIN:VEVENT
DTSTART;TZID=Europe/Berlin:20250323T140000
DTEND;TZID=Europe/Berlin:20250323T170000
DTSTAMP:20260424T143705
CREATED:20241028T102324Z
LAST-MODIFIED:20241028T102324Z
UID:10915-1742738400-1742749200@hh-hamm.de
SUMMARY:Improvisationswerkstatt – Tanz und Bewegung
DESCRIPTION:In Solo-\, Partner- und Gruppen-Improvisationen die eigene Bewegungssprache finden und die Freude am tänzerischen Ausdruck mit anderen teilen. \nJeder Termin hat ein eigenes Thema\, das mit Hilfe von angeleiteten Improvisationsmomenten – mit und ohne Musik – spielerisch erforscht wird. Der Kurs präsentiert Elemente aus dem zeitgenössischen Tanz\, dem Butoh-Tanz\, der eutonischen Körperarbeit sowie aus dem Schauspieltraining. So lernt ihr\, den eigenen Ausdruck in gemeinsamen Improvisationen gestalterisch einzusetzen. Die Freude am Spielen und der Erfahrungsaustausch kommen dabei nicht zu kurz. \nDie Werkstatt versteht sich als Vermittlerin von Kunst und Lebenskunst und ist für Kunstschaffende ebenso geeignet wie für Laien\, egal welchen Alters. Körperliche Einschränkungen sind kein Hindernis.\nEs wird barfuß getanzt oder mit rutschfesten Socken/Schläppchen. \nKursleiterin: Christiane Maaßen aka bruna luna.\nMitglied der Gruppe performance26\, die Impro Acts auf der Bühne (Musik\, Tanz\, Live Painting) darbieten. \nWebsites: brunaluna.de\,  performance26.de \nDie Anmeldung ist verbindlich und wird per E-mail bestätigt. Solltet ihr den Termin nicht wahrnehmen können\, bitten wir um eine telefonische oder schriftliche Absage bis mindestens 24 Stunden vorher.  \nTermine\nSo\, 23.03.2025 | 14:00 – 17:00 Uhr \nKosten\n30€ bzw. 25€ ermäßigt* \n*Senior*innen\, Student*innen\, Azubis\, Schüler*innen\, Schwerbehinderte\, FSJ/BFD\, Erwerbslose\, Vereinsmitglieder der Stadtteilinitiative Hamm e.V. \n\n\n \nAnmeldung\ngruppen@hh-hamm.de // 040 18 15 14 92\n \nVeranstaltungsort\nKulturladen Hamm\nSievekingdamm 3\n20535 Hamburg
URL:https://hh-hamm.de/event/improvisationswerkstatt-tanz-und-bewegung-35/
CATEGORIES:Kalender
ATTACH;FMTTYPE=image/jpeg:https://hh-hamm.de/wp-content/uploads/2020/11/Bruna-Luna-1-e1658829151315.jpg
END:VEVENT
BEGIN:VEVENT
DTSTART;TZID=Europe/Berlin:20250328T200000
DTEND;TZID=Europe/Berlin:20250328T220000
DTSTAMP:20260424T143705
CREATED:20241206T113922Z
LAST-MODIFIED:20250326T113556Z
UID:11053-1743192000-1743199200@hh-hamm.de
SUMMARY:Autokino im Oberhafen
DESCRIPTION:Die Veranstaltung muss auf Grund von Bauarbeiten an einen anderen Ort verlegt werden. Die neue Adresse lautet: \nCruise Center Baakenhöft\nBaakenhöft 1\n20457 Hamburg
URL:https://hh-hamm.de/event/autokino-im-oberhafen-9/
CATEGORIES:Kalender
ATTACH;FMTTYPE=image/jpeg:https://hh-hamm.de/wp-content/uploads/2020/05/Comedy-im-Oberhafen-c-Tim-Becker-scaled-e1733485083410.jpg
END:VEVENT
BEGIN:VEVENT
DTSTART;TZID=Europe/Berlin:20250329T200000
DTEND;TZID=Europe/Berlin:20250329T220000
DTSTAMP:20260424T143705
CREATED:20241206T114202Z
LAST-MODIFIED:20250326T113553Z
UID:11057-1743278400-1743285600@hh-hamm.de
SUMMARY:Autokino im Oberhafen
DESCRIPTION:Die Veranstaltung muss auf Grund von Bauarbeiten an einen anderen Ort verlegt werden. Die neue Adresse lautet: \nCruise Center Baakenhöft\nBaakenhöft 1\n20457 Hamburg
URL:https://hh-hamm.de/event/autokino-im-oberhafen-10/
CATEGORIES:Kalender
ATTACH;FMTTYPE=image/jpeg:https://hh-hamm.de/wp-content/uploads/2021/10/rsz_1img_20200719_221747-e1702998600138.jpg
END:VEVENT
END:VCALENDAR